BEGIN:VCALENDAR
VERSION:2.0
PRODID:-//Totem Pole Park - ECPv6.13.2.1//NONSGML v1.0//EN
CALSCALE:GREGORIAN
METHOD:PUBLISH
X-ORIGINAL-URL:https://www.tppnh.org
X-WR-CALDESC:Events for Totem Pole Park
REFRESH-INTERVAL;VALUE=DURATION:PT1H
X-Robots-Tag:noindex
X-PUBLISHED-TTL:PT1H
BEGIN:VTIMEZONE
TZID:America/New_York
BEGIN:DAYLIGHT
TZOFFSETFROM:-0500
TZOFFSETTO:-0400
TZNAME:EDT
DTSTART:20220313T070000
END:DAYLIGHT
BEGIN:STANDARD
TZOFFSETFROM:-0400
TZOFFSETTO:-0500
TZNAME:EST
DTSTART:20221106T060000
END:STANDARD
END:VTIMEZONE
BEGIN:VTIMEZONE
TZID:UTC
BEGIN:STANDARD
TZOFFSETFROM:+0000
TZOFFSETTO:+0000
TZNAME:UTC
DTSTART:20220101T000000
END:STANDARD
END:VTIMEZONE
BEGIN:VTIMEZONE
TZID:America/New_York
BEGIN:DAYLIGHT
TZOFFSETFROM:-0500
TZOFFSETTO:-0400
TZNAME:EDT
DTSTART:20220313T070000
END:DAYLIGHT
BEGIN:STANDARD
TZOFFSETFROM:-0400
TZOFFSETTO:-0500
TZNAME:EST
DTSTART:20221106T060000
END:STANDARD
END:VTIMEZONE
BEGIN:VEVENT
DTSTART;VALUE=DATE:20221008
DTEND;VALUE=DATE:20221009
DTSTAMP:20260423T104743
CREATED:20220423T190739Z
LAST-MODIFIED:20220509T205914Z
UID:2779-1665187200-1665273599@www.tppnh.org
SUMMARY:Halloween
DESCRIPTION:This is the last “big” weekend of the 2022 season. Bring your costumes and some Halloween candy for the kids. We will be decorating sites and trick or treating.
URL:https://www.tppnh.org/event/halloween/
LOCATION:NH
ATTACH;FMTTYPE=image/jpeg:https://www.tppnh.org/wp-content/uploads/2022/04/Pic17.jpg
END:VEVENT
BEGIN:VEVENT
DTSTART;TZID=America/New_York:20220917T100000
DTEND;TZID=America/New_York:20220917T130000
DTSTAMP:20260423T104743
CREATED:20220504T120232Z
LAST-MODIFIED:20220504T120232Z
UID:3071-1663408800-1663419600@www.tppnh.org
SUMMARY:Annual Owners Meeting - Saturday Sept 17\, 2022
DESCRIPTION:AnnualAssociation Meeting: Saturday July 17th\, 10AM
URL:https://www.tppnh.org/event/annual-owners-meeting-saturday-sept-17-2022/
LOCATION:Totem Pole Community Building\, 4 Totem Pole Road\, Freedom\, NH\, 03836\, United States
END:VEVENT
BEGIN:VEVENT
DTSTART;TZID=UTC:20220730T110000
DTEND;TZID=UTC:20220730T200000
DTSTAMP:20260423T104743
CREATED:20220423T055046Z
LAST-MODIFIED:20220423T060939Z
UID:2682-1659178800-1659211200@www.tppnh.org
SUMMARY:Ossipee Lake DockFest 2022
DESCRIPTION:
URL:https://www.tppnh.org/event/ossipee-lake-dockfest-2022/
LOCATION:NH
ATTACH;FMTTYPE=image/jpeg:https://www.tppnh.org/wp-content/uploads/2022/04/dockfest.jpg
END:VEVENT
BEGIN:VEVENT
DTSTART;TZID=UTC:20220716T120000
DTEND;TZID=UTC:20220716T160000
DTSTAMP:20260423T104743
CREATED:20220423T054116Z
LAST-MODIFIED:20220423T054116Z
UID:2678-1657972800-1657987200@www.tppnh.org
SUMMARY:LUAU On the Lake - Long Sands
DESCRIPTION:Scrub Oak Scramblers Luau on the Lake.  – See website link for details.
URL:https://www.tppnh.org/event/luau-on-the-lake-long-sands/
LOCATION:NH
ATTACH;FMTTYPE=image/jpeg:https://www.tppnh.org/wp-content/uploads/2022/04/Luau.jpg
END:VEVENT
BEGIN:VEVENT
DTSTART;TZID=America/New_York:20220716T073000
DTEND;TZID=America/New_York:20220716T140000
DTSTAMP:20260423T104743
CREATED:20220423T191136Z
LAST-MODIFIED:20220509T210014Z
UID:2781-1657956600-1657980000@www.tppnh.org
SUMMARY:Totem Pole Golf Tournament at Indian Mound
DESCRIPTION:Hi Everyone\, even though we’re in the middle of winter\, I wanted to start spreading the word about the 2022 Totem Pole Golf Tournament at Indian Mound.\n\n\nMy team is ready to defend the title and welcomes all who dare to challenge us!!\n\n\nDate: Saturday\, July 16th 2022\nTime: Shotgun start at 7:30am\nCost: TBD (might be $90\, like last year) ; I will provide those details later and how to pay (Venmo is the best).\n\n\nTeam Sign-Ups: We had 20+ teams last year but Indian Mound wants to cap it at 20 teams max. So we’ll do a first come – first serve for sign ups.\n\n\nIf you are going to Captain a 4-some team\, please let me know. You don’t have to tell me who the other players are\, just the Team Captain booking a spot for a full team. Please comment here to sign-up. I will also have this information posted in upcoming TPP Newsletters & on the TPP Website. Start spreading the word!
URL:https://www.tppnh.org/event/totem-pole-golf-tournament-at-indian-mound/
LOCATION:NH
ATTACH;FMTTYPE=image/jpeg:https://www.tppnh.org/wp-content/uploads/2022/04/golf.jpg
END:VEVENT
BEGIN:VEVENT
DTSTART;TZID=America/New_York:20220611T173000
DTEND;TZID=America/New_York:20220611T220000
DTSTAMP:20260423T104743
CREATED:20220423T034204Z
LAST-MODIFIED:20220509T210052Z
UID:2655-1654968600-1654984800@www.tppnh.org
SUMMARY:TPP Bowling Night
DESCRIPTION:Alright everyone looking to get a headcount to see how many lanes we need. Pricing and information below. If your respond that you are attending please comment how many bowlers and if you are interested in the 5:30 or 8 pm session. \nSaturdays are “Glow Bowl” evenings\, which means it breaks down a bit differently then any other evening. We run two time slots where regular lighting is shut off and disco/laser lights\, fog machines and music is turned up. We charge $16 per person for bowling for a 2 hour time span which includes a shoe rental. We allow no more then 5 bowlers on each lane at a time. The time sessions are 5:30-7:30 and 8-10pm (recommended adults only) Reservations for this is HIGHLY recommended as we tend to fill up these evenings incredibly fast.
URL:https://www.tppnh.org/event/tpp-bowling-night/
LOCATION:Saco Valley Sports Center\, 95 Pine St\, Fryeburg\, ME\, 04037
CATEGORIES:Bowling Night
ATTACH;FMTTYPE=image/jpeg:https://www.tppnh.org/wp-content/uploads/2022/04/bowling_night.jpg
END:VEVENT
BEGIN:VEVENT
DTSTART;TZID=America/New_York:20220611T090000
DTEND;TZID=America/New_York:20220611T130000
DTSTAMP:20260423T104743
CREATED:20220423T102155Z
LAST-MODIFIED:20220423T103234Z
UID:2688-1654938000-1654952400@www.tppnh.org
SUMMARY:Loon Preservation Committee Presentation followed by Loon nest survey
DESCRIPTION:On Saturday June 11 at 9 AM\, the Loon Preservation Committee will be giving a presentation in Community Building on Loons\, followed by Q/A.\nWe will have their biologists and volunteers giving the presentation.\n     When completed\, we will be bringing them out to look at active nests.\n      If you want to join us out on the lake\, suggest you bring binoculars so we can keep safe distances from nests.\n     We also will be hosting Green Mountain Conservation Group and Ossipee Lake Alliance who will be available for questions on their efforts as well.\n      Will need a couple of TPP boaters to volunteer to bring State\, guests and fellow owners out for loon nest survey around 11 AM.\nDennis
URL:https://www.tppnh.org/event/loon-preservation-committee-presentation-followed-by-loon-nest-survey/
LOCATION:NH
ATTACH;FMTTYPE=image/jpeg:https://www.tppnh.org/wp-content/uploads/2022/04/loon2.jpg
END:VEVENT
BEGIN:VEVENT
DTSTART;TZID=America/New_York:20220611T080000
DTEND;TZID=America/New_York:20220619T170000
DTSTAMP:20260423T104743
CREATED:20220423T103755Z
LAST-MODIFIED:20220423T103755Z
UID:2695-1654934400-1655658000@www.tppnh.org
SUMMARY:Laconia Bike Week
DESCRIPTION:LACONIA 2022\nJune 11-19\, 2022 – Celebrating 99 years of riding legacy in 2022 with YOU because it’s been you\, our riders\, who have made Laconia Motorcycle Week® the World-Class Rally it is today! \nIf you can only choose one National Rally to attend in 2022 – choose the one you have to ride the furthest to! And if riding is your pleasure then we hope you’ll be joining us for Laconia Motorcycle Week® in 2022 because In Laconia… We Ride®! Although our legacy as the World’s Oldest Motorcycle Rally® is because our gypsy tour began in 1916\, our legacy continues because of our unmatched scenic riding throughout the beautiful State of New Hampshire. Residents and businesses alike\, welcome motorcyclists during the Rally every year in June. \nWith the 2nd largest demographic of motorcycle riders in the country and host to the oldest Rally in the country\, NH opens its doors to motorcycle enthusiasts all year long!
URL:https://www.tppnh.org/event/laconia-bike-week/
LOCATION:NH
ATTACH;FMTTYPE=image/jpeg:https://www.tppnh.org/wp-content/uploads/2022/04/LaconiaBikeWeek_Riders7.jpg
END:VEVENT
BEGIN:VEVENT
DTSTART;TZID=UTC:20220514T090000
DTEND;TZID=UTC:20220514T110000
DTSTAMP:20260423T104743
CREATED:20220423T041009Z
LAST-MODIFIED:20220426T153934Z
UID:2661-1652518800-1652526000@www.tppnh.org
SUMMARY:Long Sands Clean-Up
DESCRIPTION:Volunteers Needed\n       For many years\, boaters and lake neighbors have volunteered before Memorial Day to clean up long sands to get it ready for summer.\n      This year\, we are planning the clean up for Saturday May 14 from 9-11 AM at beach\, then will bring all the debris/bags to Lakeside to put in pick up to bring to Ossipee Dump.\n      We will pick up all debris\, move any logs\, stumps etc that float up on beach or in shallow areas and rake the entire 1000 feet of open part of the beach.\n      Bring gloves\, steel rake and/or  beach rake.\n      I will supply the heavy bags and I will have extra gloves if needed.\n     I will scout area before hand but if there are any trees that washed up we may need a chain saw if someone has one to bring.\n      I will update the needs the week before event so all know what we may be up against.\n      Please e mail or text me if you are planning to volunteer.\nThank You\nDennis Gould\nE mail jdgould1969@aol.com\nCell 6172574847
URL:https://www.tppnh.org/event/long-sands-clean-up/
LOCATION:Long Sands Clean-Up
CATEGORIES:Long Sands Clean-up
ATTACH;FMTTYPE=image/jpeg:https://www.tppnh.org/wp-content/uploads/2022/04/lake-2-scaled.jpg
END:VEVENT
END:VCALENDAR